BEGIN:VCALENDAR
VERSION:2.0
PRODID:-//Workforce QA - ECPv6.10.2//NONSGML v1.0//EN
CALSCALE:GREGORIAN
METHOD:PUBLISH
X-WR-CALNAME:Workforce QA
X-ORIGINAL-URL:https://wfqa.com
X-WR-CALDESC:Events for Workforce QA
REFRESH-INTERVAL;VALUE=DURATION:PT1H
X-Robots-Tag:noindex
X-PUBLISHED-TTL:PT1H
BEGIN:VTIMEZONE
TZID:UTC
BEGIN:STANDARD
TZOFFSETFROM:+0000
TZOFFSETTO:+0000
TZNAME:UTC
DTSTART:20250101T000000
END:STANDARD
END:VTIMEZONE
BEGIN:VEVENT
DTSTART;VALUE=DATE:20250724
DTEND;VALUE=DATE:20250727
DTSTAMP:20260419T201504
CREATED:20250416T200947Z
LAST-MODIFIED:20260113T210714Z
UID:10000064-1753315200-1753574399@wfqa.com
SUMMARY:Florida Trucking Association's 2025 Annual Conference
DESCRIPTION:WorkforceQA at the Florida Trucking Association’s 2025 Annual Conference | July 24–26 \nWe’re pleased to announce that Marc Bourne\, VP of Background Services\, and Grady Phillips\, CRO\, will be attending the Florida Trucking Association’s 2025 Annual Conference\, taking place July 24–26 at the Tampa Marriott Water Street Hotel. \nThis premier event draws over 500 trucking executives each year and features dynamic networking opportunities\, group activities\, and insightful presentations from prominent industry leaders across both the private and public sectors. \nMarc and Grady are looking forward to meaningful conversations around safety\, compliance\, and the latest trends in workforce screening. They’re excited to share how WorkforceQA’s services—spanning drug and alcohol testing\, background checks\, MVRs\, and physicals—help fleets stay compliant and prepared. \nIf you’ll be attending\, reach out to connect—we’d love to meet up!
URL:https://wfqa.com/event/florida-trucking-associations-2025-annual-conference/
CATEGORIES:Conference
ATTACH;FMTTYPE=image/png:https://wfqa.com/wp-content/uploads/Email-Headers-Events-Web.png
END:VEVENT
END:VCALENDAR