BEGIN:VCALENDAR
VERSION:2.0
PRODID:-//Workforce QA - ECPv6.10.2//NONSGML v1.0//EN
CALSCALE:GREGORIAN
METHOD:PUBLISH
X-ORIGINAL-URL:https://wfqa.com
X-WR-CALDESC:Events for Workforce QA
REFRESH-INTERVAL;VALUE=DURATION:PT1H
X-Robots-Tag:noindex
X-PUBLISHED-TTL:PT1H
BEGIN:VTIMEZONE
TZID:UTC
BEGIN:STANDARD
TZOFFSETFROM:+0000
TZOFFSETTO:+0000
TZNAME:UTC
DTSTART:20250101T000000
END:STANDARD
END:VTIMEZONE
BEGIN:VEVENT
DTSTART;VALUE=DATE:20250423
DTEND;VALUE=DATE:20250426
DTSTAMP:20260421T160955
CREATED:20250326T172535Z
LAST-MODIFIED:20251212T161440Z
UID:10000060-1745366400-1745625599@wfqa.com
SUMMARY:ATA Safety\, Security & Human Resources National Conference and Exhibition
DESCRIPTION:WorkforceQA at ATA Safety\, Security & HR Conference 2025! \nWorkforceQA is excited to attend the ATA Safety\, Security & HR Conference (SSHR25)! Join us as Grady Phillips and Brandon Bulcroft represent WorkforceQA\, showcasing our industry-leading compliance solutions for background screening\, drug and alcohol testing\, and workforce safety. \n📍 Visit us at Booth #402! \nSSHR25 is the premier event for safety\, security\, and HR professionals in the trucking industry\, providing valuable insights\, expert-led discussions\, and networking opportunities to enhance workplace safety and compliance. \nStop by our booth to learn how WorkforceQA can support your company’s compliance needs. We look forward to connecting with you! \n🔗 Learn more about SSHR25
URL:https://wfqa.com/event/ata-safety-security-human-resources-national-conference-and-exhibition-3/
CATEGORIES:Conference
ATTACH;FMTTYPE=image/jpeg:https://wfqa.com/wp-content/uploads/banner.jpg
END:VEVENT
END:VCALENDAR