BEGIN:VCALENDAR
VERSION:2.0
PRODID:-//Workforce QA - ECPv6.10.2//NONSGML v1.0//EN
CALSCALE:GREGORIAN
METHOD:PUBLISH
X-ORIGINAL-URL:https://wfqa.com
X-WR-CALDESC:Events for Workforce QA
REFRESH-INTERVAL;VALUE=DURATION:PT1H
X-Robots-Tag:noindex
X-PUBLISHED-TTL:PT1H
BEGIN:VTIMEZONE
TZID:UTC
BEGIN:STANDARD
TZOFFSETFROM:+0000
TZOFFSETTO:+0000
TZNAME:UTC
DTSTART:20250101T000000
END:STANDARD
END:VTIMEZONE
BEGIN:VEVENT
DTSTART;VALUE=DATE:20250629
DTEND;VALUE=DATE:20250703
DTSTAMP:20260421T095223
CREATED:20250416T202937Z
LAST-MODIFIED:20250930T165231Z
UID:10000065-1751155200-1751500799@wfqa.com
SUMMARY:SHRM25 Expo
DESCRIPTION:WorkforceQA at SHRM25 Expo \nGrady Phillips\, CRO\, and Marc Bourne\, VP of Background Services\, will attend the SHRM25 Expo\, the world’s largest HR solutions center. \nWith more than 650 leading companies showcasing the latest in HR products and services\, SHRM25 is a hub for innovation across key areas like HR strategy\, employee relations\, employment law\, global HR\, wellness and safety\, leadership development\, talent acquisition\, HR technology\, and more. \nGrady and Marc are looking forward to connecting with HR professionals and sharing how WorkforceQA’s comprehensive compliance and screening solutions—including background checks\, drug and alcohol testing\, physicals\, and more—help companies build safer\, smarter\, and more compliant workplaces. \nAttending SHRM25? Reach out to schedule a time to connect—we’d love to meet you!
URL:https://wfqa.com/event/shrm25-expo/
CATEGORIES:Conference
ATTACH;FMTTYPE=image/jpeg:https://wfqa.com/wp-content/uploads/458769243_10160471777778042_6736221172519301904_n.jpg
END:VEVENT
BEGIN:VEVENT
DTSTART;VALUE=DATE:20250724
DTEND;VALUE=DATE:20250727
DTSTAMP:20260421T095223
CREATED:20250416T200947Z
LAST-MODIFIED:20260113T210714Z
UID:10000064-1753315200-1753574399@wfqa.com
SUMMARY:Florida Trucking Association's 2025 Annual Conference
DESCRIPTION:WorkforceQA at the Florida Trucking Association’s 2025 Annual Conference | July 24–26 \nWe’re pleased to announce that Marc Bourne\, VP of Background Services\, and Grady Phillips\, CRO\, will be attending the Florida Trucking Association’s 2025 Annual Conference\, taking place July 24–26 at the Tampa Marriott Water Street Hotel. \nThis premier event draws over 500 trucking executives each year and features dynamic networking opportunities\, group activities\, and insightful presentations from prominent industry leaders across both the private and public sectors. \nMarc and Grady are looking forward to meaningful conversations around safety\, compliance\, and the latest trends in workforce screening. They’re excited to share how WorkforceQA’s services—spanning drug and alcohol testing\, background checks\, MVRs\, and physicals—help fleets stay compliant and prepared. \nIf you’ll be attending\, reach out to connect—we’d love to meet up!
URL:https://wfqa.com/event/florida-trucking-associations-2025-annual-conference/
CATEGORIES:Conference
ATTACH;FMTTYPE=image/png:https://wfqa.com/wp-content/uploads/Email-Headers-Events-Web.png
END:VEVENT
BEGIN:VEVENT
DTSTART;VALUE=DATE:20250729
DTEND;VALUE=DATE:20250801
DTSTAMP:20260421T095223
CREATED:20250721T183025Z
LAST-MODIFIED:20250721T184211Z
UID:10000067-1753747200-1754006399@wfqa.com
SUMMARY:MINNESOTA TRUCKING ASSOCIATION'S 93rd Annual Conference
DESCRIPTION:93rd Annual Minnesota Trucking Association Conference📅 July 29–31\, 2025📍 Arrowwood Resort & Conference Center – Alexandria\, MN \nWorkforceQA is excited to be part of the Minnesota Trucking Association’s 93rd Annual Conference! \nJoin Grady Phillips\, David Lord\, and Mike Watts at this premier industry event focused on leadership\, safety\, and the future of trucking. Stop by and visit us at Booth #308 to learn more about our workforce compliance solutions — from background screening\, to drug and alcohol testing and DER support. \nWhether you’re looking to strengthen your compliance program or want to learn more about what we do\, we look forward to seeing you in Alexandria!
URL:https://wfqa.com/event/minnesota-trucking-associations-93rd-annual-conference/
CATEGORIES:Conference
ATTACH;FMTTYPE=image/png:https://wfqa.com/wp-content/uploads/2023/07/MTA.png
END:VEVENT
END:VCALENDAR