BEGIN:VCALENDAR
VERSION:2.0
PRODID:-//Workforce QA - ECPv6.10.2//NONSGML v1.0//EN
CALSCALE:GREGORIAN
METHOD:PUBLISH
X-WR-CALNAME:Workforce QA
X-ORIGINAL-URL:https://wfqa.com
X-WR-CALDESC:Events for Workforce QA
REFRESH-INTERVAL;VALUE=DURATION:PT1H
X-Robots-Tag:noindex
X-PUBLISHED-TTL:PT1H
BEGIN:VTIMEZONE
TZID:UTC
BEGIN:STANDARD
TZOFFSETFROM:+0000
TZOFFSETTO:+0000
TZNAME:UTC
DTSTART:20240101T000000
END:STANDARD
END:VTIMEZONE
BEGIN:VEVENT
DTSTART;TZID=UTC:20240925T080000
DTEND;TZID=UTC:20240926T170000
DTSTAMP:20260422T014630
CREATED:20240620T214656Z
LAST-MODIFIED:20240726T212003Z
UID:10000046-1727251200-1727370000@wfqa.com
SUMMARY:2024 FMCSA SAFETY & RECRUITING ROUNDTABLE SEMINAR
DESCRIPTION:Join your colleagues for the 2024 FMCSA SAFETY & RECRUITING ROUNDTABLE SEMINAR (formerly the FMCSA DER Roundtable)\, a must-attend event for all trucking Safety and Recruiting professionals! This event will occur on September 25th and 26th at WorkforceQA Corporate Office\, 2200 South Main Street\, Salt Lake City\, Utah. \n\n\nThe FMCSA Safety and Recruiting Conference emphasizes the significance of hiring qualified and safe drivers efficiently. While safety and recruiting teams’ priorities may sometimes differ\, the conference presentations will emphasize the necessity of streamlining the hiring process while maintaining strict safety standards and ensuring FMCSA compliance.\nManaging an effective FMCSA-compliant screening program presents unique challenges that require specific knowledge and expertise. This event aims to assemble the industry’s best minds to collaborate on crafting better processes\, finding superior solutions\, and fostering a safer\, more efficient trucking industry. Topics covered will include regulatory updates\, best practices\, and strategies for maintaining a safe and compliant workplace.\nTogether\, we can keep the roads safe!\n\n\nWHEN: Wednesday – September 25 &  Thursday – 26\, 2024 \nWHERE: WorkforceQA Corporate Office\, Salt Lake City\, UT \nCOST: $249.00 \nWHAT: This event spans two days and features exclusive presentations and roundtable discussions on best practices for compliance screening. It’s an excellent opportunity to discover new ideas\, network with industry peers and experts\, and stay informed about FMCSA and State Regulations updates. By attending this event\, you will gain extensive knowledge to enhance your program and establish invaluable industry connections to support you moving forward. \n\n\n\nREGISTER NOW to secure your spot at this informative event. With limited space and seats filling up fast\, we encourage you to respond promptly to avoid missing out on this unique opportunity. \n\n  Register Now\n \n 
URL:https://wfqa.com/event/2024-fmcsa-safety-recruiting-roundtable-seminar/
CATEGORIES:Conference
ATTACH;FMTTYPE=image/png:https://wfqa.com/wp-content/uploads/FMCSA-Round-Table-Invite-2024.png
END:VEVENT
END:VCALENDAR